BEGIN:VCALENDAR
X-WR-TIMEZONE:Europe/Berlin
X-WR-CALNAME:rbb-Kalender
VERSION:2.0
METHOD:PUBLISH
CALSCALE:GREGORIAN
PRODID:rbb-CMS DAY
BEGIN:VEVENT
LOCATION:zuhause in berlin & brandenburg
CLASS:PUBLIC
URL:http://www.rbb-online.de/content/rbb/rbb/zibb/archiv/20130808_1830.html
DTEND:20130808T192500
DTSTART:20130808T183000
UID:/content/rbb/rbb/zibb/archiv/20130808_1830
DTSTAMP:20140407T172434
DESCRIPTION:Tagesthema: Käferplage +++ Die neue Zirkus-Comic-Show "Beyond" +++ Das zibb-Hochzeitspaar Katja und Marco +++ Leckeres Eis von "Paletas" +++ Café Olé +++ Jessy Wellmer und Andreas Ulrich +++\n\n\n
SUMMARY:zibb 08.08.2013 18:30
END:VEVENT
END:VCALENDAR
