BEGIN:VCALENDAR
X-WR-TIMEZONE:Europe/Berlin
X-WR-CALNAME:rbb-Kalender
VERSION:2.0
METHOD:PUBLISH
CALSCALE:GREGORIAN
PRODID:rbb-CMS DAY
BEGIN:VEVENT
CLASS:PUBLIC
URL:http://www.rbb-online.de/content/rbb/rbb/zibb/archiv/20130808_1830/Hochzeitspaar.html
DTEND:20130808T192500
DTSTART:20130808T183000
UID:/content/rbb/rbb/zibb/archiv/20130808_1830/Hochzeitspaar
DTSTAMP:20140407T172421
DESCRIPTION:Sie waren das zibb-Hochzeitspaar 2008: Katja und Marco Dominicziak haben am 8.8. geheiratet. Die Verwaltungsassistentin und der Gerüstbauer haben ihre Hochzeitsparty danach mit ihrer Familie und ihren Freunden im zibb-Sommergarten gefeiert. Nach fünfjähriger Ehe kehren die beiden in den Sommergarten zurück.\n\n\n
SUMMARY:Das zibb-Hochzeitspaar kehrt zurück
END:VEVENT
END:VCALENDAR
