BEGIN:VCALENDAR
X-WR-TIMEZONE:Europe/Berlin
X-WR-CALNAME:rbb-Kalender
VERSION:2.0
METHOD:PUBLISH
CALSCALE:GREGORIAN
PRODID:rbb-CMS DAY
BEGIN:VEVENT
CLASS:PUBLIC
URL:http://www.rbb-online.de/content/rbb/rbb/zibb/archiv/20130809_1830/Live_rallye_avus_classic.html
DTEND:20130809T192500
DTSTART:20130809T183000
UID:/content/rbb/rbb/zibb/archiv/20130809_1830/Live_rallye_avus_classic
DTSTAMP:20140407T170604
DESCRIPTION:Egal ob Berlinale, Grüne Woche oder wie diesmal die Rallye AVUS Classic vor der Messehalle - zibb ist überall live vor Ort, wo etwas los ist. Diesmal kommt Moderatorin Madeleine Wehle in den Genuss, mit einem prachtvollen Oldtimer durch die Stadt zu rollen.\n\n\n
SUMMARY:Live von der Rallye AVUS Classic
END:VEVENT
END:VCALENDAR
