BEGIN:VCALENDAR
X-WR-TIMEZONE:Europe/Berlin
X-WR-CALNAME:rbb-Kalender
VERSION:2.0
METHOD:PUBLISH
CALSCALE:GREGORIAN
PRODID:rbb-CMS DAY
BEGIN:VEVENT
CLASS:PUBLIC
URL:http://www.rbb-online.de/content/rbb/rbb/zibb/archiv/20130809_1830/couchgestaendnisse.html
DTEND:20130809T192500
DTSTART:20130809T183000
UID:/content/rbb/rbb/zibb/archiv/20130809_1830/couchgestaendnisse
DTSTAMP:20140407T170659
DESCRIPTION:Was wären 10 Jahre zibb ohne die zibb-Couch. Hier hat sich schon so mancher Promi nieder- und die eine oder andere Wahrheit herausgelassen. Und ein Blick zurück zeigt, wer auf dieser Couch schon alles drauf gesessen hat.\n\n\n
SUMMARY:Couchgeständnisse
END:VEVENT
END:VCALENDAR
