BEGIN:VCALENDAR
X-WR-TIMEZONE:Europe/Berlin
X-WR-CALNAME:rbb-Kalender
VERSION:2.0
METHOD:PUBLISH
CALSCALE:GREGORIAN
PRODID:rbb-CMS DAY
BEGIN:VEVENT
CLASS:PUBLIC
URL:http://www.rbb-online.de/content/rbb/rbb/zibb/archiv/20130812_1830/die-singende-Koechin-bini-lee-zauner.html
DTEND:20130812T192500
DTSTART:20130812T183000
UID:/content/rbb/rbb/zibb/archiv/20130812_1830/die-singende-Koechin-bini-lee-zauner
DTSTAMP:20140407T171509
DESCRIPTION:Bini Lee-Zauner ist ein Multitalent. Die Südkoreanerin ist nicht nur eine Köchin, sondern auch eine ausgebildete Opernsängerin. Einmal im Monat lädt sie in ihr Restaurant "Kochu Karu" zu "SINGMAHLen" – einem Vier-Gänge-Menü mit Konzert - ein.\n\n\n
SUMMARY:Die singende Köchin Bini Lee-Zauner 
END:VEVENT
END:VCALENDAR
