BEGIN:VCALENDAR
X-WR-TIMEZONE:Europe/Berlin
X-WR-CALNAME:rbb-Kalender
VERSION:2.0
METHOD:PUBLISH
CALSCALE:GREGORIAN
PRODID:rbb-CMS DAY
BEGIN:VEVENT
CLASS:PUBLIC
URL:http://www.rbb-online.de/content/rbb/rbb/zibb/archiv/20130812_1830/tattoo-trends-des-sommers.html
DTEND:20130812T192500
DTSTART:20130812T183000
UID:/content/rbb/rbb/zibb/archiv/20130812_1830/tattoo-trends-des-sommers
DTSTAMP:20140407T171450
DESCRIPTION:Vor allem im Sommer kann man sie überall begutachten: Tätowierungen oder auch neudeutsch "Tatoos" genannt – mal mehr oder weniger gelungen. Mittlerweile ist jeder vierte Deutsche tätowiert. Die Moden ändern sich, ihre Abbilder bleiben für immer in der Haut. \n\n\n
SUMMARY:Tattoo-Trends des Sommers
END:VEVENT
END:VCALENDAR
