BEGIN:VCALENDAR
X-WR-TIMEZONE:Europe/Berlin
X-WR-CALNAME:rbb-Kalender
VERSION:2.0
METHOD:PUBLISH
CALSCALE:GREGORIAN
PRODID:rbb-CMS DAY
BEGIN:VEVENT
LOCATION: 
CLASS:PUBLIC
URL:http://www.rbb-online.de/content/rbb/rbb/zibb/archiv/20130813_1830.html
DTEND:20130813T192500
DTSTART:20130813T183000
UID:/content/rbb/rbb/zibb/archiv/20130813_1830
DTSTAMP:20140408T022020
DESCRIPTION:+++ Familiendrama in Werben +++ Wasserwacht Wannsee +++ Service: Farbstoffe in Lebensmitteln +++ Stuntschule für junge Kriminelle +++ Tier zuliebe +++ Weltlinkshändertag +++ Autotest: Mercedes-Benz SL 500 +++ Zu Gast: Anna Maria Kaufmann +++ "Diener zweier Herren" in Cottbus +++ zibb-Tipps +++ Premiere "Feuchtgebiete" +++\n\n\n \n
SUMMARY:zibb 13.08.2013 18:30
END:VEVENT
END:VCALENDAR
