BEGIN:VCALENDAR
X-WR-TIMEZONE:Europe/Berlin
X-WR-CALNAME:rbb-Kalender
VERSION:2.0
METHOD:PUBLISH
CALSCALE:GREGORIAN
PRODID:rbb-CMS DAY
BEGIN:VEVENT
CLASS:PUBLIC
URL:http://www.rbb-online.de/content/rbb/rbb/zibb/archiv/20130813_1830/schwungvolle-herren.html
DTEND:20130813T192500
DTSTART:20130813T183000
UID:/content/rbb/rbb/zibb/archiv/20130813_1830/schwungvolle-herren
DTSTAMP:20140408T022047
DESCRIPTION:Die amtierenden Deutschen Meister im Männerballett kommen aus Finsterwalde. Zum ersten Mal in der Geschichte haben die Männer des Sängerkarnevals bei der Deutschen Meisterschaft in Bonn den Titel nach Brandenburg geholt und damit bewiesen, dass in der Sängerstadt auch erfolgreich getanzt werden kann.\n\n\n
SUMMARY:Schwungvolle Herren
END:VEVENT
END:VCALENDAR
