BEGIN:VCALENDAR
X-WR-TIMEZONE:Europe/Berlin
X-WR-CALNAME:rbb-Kalender
VERSION:2.0
METHOD:PUBLISH
CALSCALE:GREGORIAN
PRODID:rbb-CMS DAY
BEGIN:VEVENT
CLASS:PUBLIC
URL:http://www.rbb-online.de/content/rbb/rbb/zibb/archiv/20130813_1830/tier-zuliebe.html
DTEND:20130813T192500
DTSTART:20130813T183000
UID:/content/rbb/rbb/zibb/archiv/20130813_1830/tier-zuliebe
DTSTAMP:20140408T022005
DESCRIPTION:Heute stellen wir Ihnen vier Vermittlungskandidaten aus der Tierherberge von Markgrafpieske vor: die Katzenschwestern Fanta und Fee, den dreibeinigen Rüden Trios und Hütehund Piro.\n\n\n
SUMMARY:Tier zuliebe
END:VEVENT
END:VCALENDAR
