BEGIN:VCALENDAR
X-WR-TIMEZONE:Europe/Berlin
X-WR-CALNAME:rbb-Kalender
VERSION:2.0
METHOD:PUBLISH
CALSCALE:GREGORIAN
PRODID:rbb-CMS DAY
BEGIN:VEVENT
CLASS:PUBLIC
URL:http://www.rbb-online.de/content/rbb/rbb/zibb/archiv/20130813_1830/wasserwacht-wannsee.html
DTEND:20130813T192500
DTSTART:20130813T183000
UID:/content/rbb/rbb/zibb/archiv/20130813_1830/wasserwacht-wannsee
DTSTAMP:20140408T022040
DESCRIPTION:Immer die Augen aufhalten und bloß nicht in der Sonne eindösen, denn das kann Leben kosten: Für die Geschwister Anne und Paul Marcinkowski ist es die erste Saison als Wasserwächter des DRK.\n
SUMMARY:Wasserwacht Wannsee
END:VEVENT
END:VCALENDAR
