BEGIN:VCALENDAR
X-WR-TIMEZONE:Europe/Berlin
X-WR-CALNAME:rbb-Kalender
VERSION:2.0
METHOD:PUBLISH
CALSCALE:GREGORIAN
PRODID:rbb-CMS DAY
BEGIN:VEVENT
CLASS:PUBLIC
URL:http://www.rbb-online.de/content/rbb/rbb/zibb/archiv/20130814_1830/schlagloch-weltmeister.html
DTEND:20130814T192500
DTSTART:20130814T183000
UID:/content/rbb/rbb/zibb/archiv/20130814_1830/schlagloch-weltmeister
DTSTAMP:20140407T172318
DESCRIPTION:Loch an Loch - auf manchen Straßen ist das Autofahren nahezu eine Katastrophe - ganz aktuell geht seit diesem Mittwoch der Lichtenfelder Ring in die wenig ruhmreiche Berliner Schlaglochchronik ein.\n\n\n
SUMMARY:Schlagloch-Weltmeister
END:VEVENT
END:VCALENDAR
