BEGIN:VCALENDAR
X-WR-TIMEZONE:Europe/Berlin
X-WR-CALNAME:rbb-Kalender
VERSION:2.0
METHOD:PUBLISH
CALSCALE:GREGORIAN
PRODID:rbb-CMS DAY
BEGIN:VEVENT
LOCATION:zuhause in berlin & brandenburg
CLASS:PUBLIC
URL:http://www.rbb-online.de/content/rbb/rbb/zibb/archiv/20130815_1830.html
DTEND:20130815T192500
DTSTART:20130815T183000
UID:/content/rbb/rbb/zibb/archiv/20130815_1830
DTSTAMP:20140407T171633
DESCRIPTION: Immer Ärger mit der Bahn +++ Urteil im Jonny K. Prozess +++ Superintendent Harder geht in Ruhestand +++ Service: Entspannt umziehen +++ Gäste: Maybebop +++ "Mucki"-Spielplatz +++ Viel Lärm um nichts? +++ UFA Filmnächte +++ Programmtipp\n\n\n
SUMMARY:zibb 15.08.2013 18:30
END:VEVENT
END:VCALENDAR
