BEGIN:VCALENDAR
X-WR-TIMEZONE:Europe/Berlin
X-WR-CALNAME:rbb-Kalender
VERSION:2.0
METHOD:PUBLISH
CALSCALE:GREGORIAN
PRODID:rbb-CMS DAY
BEGIN:VEVENT
CLASS:PUBLIC
URL:http://www.rbb-online.de/content/rbb/rbb/zibb/archiv/20130815_1830/aerger-mit-der-bahn.html
DTEND:20130815T192500
DTSTART:20130815T183000
UID:/content/rbb/rbb/zibb/archiv/20130815_1830/aerger-mit-der-bahn
DTSTAMP:20140407T171624
DESCRIPTION:Die Dabendorfer Grundschüler planen ihren Jahresausflug. Es sind 160 Kinder, die mit der Bahn nach Berlin möchten. Im Juni wäre dies noch möglich gewesen, aber dann kam alles anders.\n
SUMMARY:Ärger mit der Bahn...
END:VEVENT
END:VCALENDAR
