BEGIN:VCALENDAR
X-WR-TIMEZONE:Europe/Berlin
X-WR-CALNAME:rbb-Kalender
VERSION:2.0
METHOD:PUBLISH
CALSCALE:GREGORIAN
PRODID:rbb-CMS DAY
BEGIN:VEVENT
CLASS:PUBLIC
URL:http://www.rbb-online.de/content/rbb/rbb/zibb/archiv/20130815_1830/viel-laerm-um-nichts.html
DTEND:20130815T192500
DTSTART:20130815T183000
UID:/content/rbb/rbb/zibb/archiv/20130815_1830/viel-laerm-um-nichts
DTSTAMP:20140407T171603
DESCRIPTION:"Berlin, eine Stadt die niemals schläft." Mit dem Image wirbt die Stadt um Party-Touristen weltweit.\n\n\n
SUMMARY:Viel Lärm um nichts?
END:VEVENT
END:VCALENDAR
