BEGIN:VCALENDAR
X-WR-TIMEZONE:Europe/Berlin
X-WR-CALNAME:rbb-Kalender
VERSION:2.0
METHOD:PUBLISH
CALSCALE:GREGORIAN
PRODID:rbb-CMS DAY
BEGIN:VEVENT
CLASS:PUBLIC
URL:http://www.rbb-online.de/content/rbb/rbb/zibb/archiv/20130816_1830/dit-war-dit.html
DTEND:20130816T192500
DTSTART:20130816T183000
UID:/content/rbb/rbb/zibb/archiv/20130816_1830/dit-war-dit
DTSTAMP:20140407T172920
DESCRIPTION:Unser satirischer Wochenrückblick.\n\nBeitrag von Frank Schlegel\n\n\n
SUMMARY:Dit war dit
END:VEVENT
END:VCALENDAR
