BEGIN:VCALENDAR
X-WR-TIMEZONE:Europe/Berlin
X-WR-CALNAME:rbb-Kalender
VERSION:2.0
METHOD:PUBLISH
CALSCALE:GREGORIAN
PRODID:rbb-CMS DAY
BEGIN:VEVENT
CLASS:PUBLIC
URL:http://www.rbb-online.de/content/rbb/rbb/zibb/archiv/20130819_1830/wie-barrierefrei-waehlt-deutschland.html
DTEND:20130819T192500
DTSTART:20130819T183000
UID:/content/rbb/rbb/zibb/archiv/20130819_1830/wie-barrierefrei-waehlt-deutschland
DTSTAMP:20140407T170847
DESCRIPTION:Dieser Frage geht Guildo Horn, gemeinsam mit der AKTION MENSCH und seinen Test-Helfern, nach.\n\n\n
SUMMARY:Wie barrierefrei wählt Deutschland?
END:VEVENT
END:VCALENDAR
