BEGIN:VCALENDAR
X-WR-TIMEZONE:Europe/Berlin
X-WR-CALNAME:rbb-Kalender
VERSION:2.0
METHOD:PUBLISH
CALSCALE:GREGORIAN
PRODID:rbb-CMS DAY
BEGIN:VEVENT
CLASS:PUBLIC
URL:http://www.rbb-online.de/content/rbb/rbb/zibb/archiv/20130819_1830/zibb-segelt-fuer-den-guten-zweck.html
DTEND:20130819T192500
DTSTART:20130819T183000
UID:/content/rbb/rbb/zibb/archiv/20130819_1830/zibb-segelt-fuer-den-guten-zweck
DTSTAMP:20140407T170812
DESCRIPTION:Auf dem Wolziger See kämpfen zehn Mannschaften auf ihren Segelbooten um den 3. Berlin-Brandenburg Mediencup.\n\n\n
SUMMARY:zibb segelt für den guten Zweck
END:VEVENT
END:VCALENDAR
