BEGIN:VCALENDAR
X-WR-TIMEZONE:Europe/Berlin
X-WR-CALNAME:rbb-Kalender
VERSION:2.0
METHOD:PUBLISH
CALSCALE:GREGORIAN
PRODID:rbb-CMS DAY
BEGIN:VEVENT
LOCATION:zuhause in berlin & brandenburg
CLASS:PUBLIC
URL:http://www.rbb-online.de/content/rbb/rbb/zibb/archiv/20130820_1830.html
DTEND:20130820T192500
DTSTART:20130820T183000
UID:/content/rbb/rbb/zibb/archiv/20130820_1830
DTSTAMP:20140407T171940
DESCRIPTION:Der Kriminaldauerdienst in Oranienburg +++ Bedrohung für die märkische Kiefer +++ Service: Endlich Schluß mit Schnarchen +++ Im Autotest: Pick up Aycton +++ Kunst aus dem Knast +++ Gäste: die Mukketierbande +++ Filmpremiere: City of Bones +++\n\nDeutschlands größtes Fernkältesystem\n
SUMMARY:zibb 20.08.2013 18:30
END:VEVENT
END:VCALENDAR
