BEGIN:VCALENDAR
X-WR-TIMEZONE:Europe/Berlin
X-WR-CALNAME:rbb-Kalender
VERSION:2.0
METHOD:PUBLISH
CALSCALE:GREGORIAN
PRODID:rbb-CMS DAY
BEGIN:VEVENT
CLASS:PUBLIC
URL:http://www.rbb-online.de/content/rbb/rbb/zibb/archiv/20130820_1830/filmpremiere-city-of-bones.html
DTEND:20130820T192500
DTSTART:20130820T183000
UID:/content/rbb/rbb/zibb/archiv/20130820_1830/filmpremiere-city-of-bones
DTSTAMP:20140407T172037
DESCRIPTION:"Chroniken der Unterwelt - City Of Bones" ist ein fulminantes Film-Fantasy-Spektakel, das am 29. August in unsere Kinos kommt.\n\n\n
SUMMARY:Filmpremiere "City of Bones"
END:VEVENT
END:VCALENDAR
