BEGIN:VCALENDAR
X-WR-TIMEZONE:Europe/Berlin
X-WR-CALNAME:rbb-Kalender
VERSION:2.0
METHOD:PUBLISH
CALSCALE:GREGORIAN
PRODID:rbb-CMS DAY
BEGIN:VEVENT
LOCATION:zuhause in berlin & brandenburg
CLASS:PUBLIC
URL:http://www.rbb-online.de/content/rbb/rbb/zibb/archiv/20130822_1830.html
DTEND:20130822T192500
DTSTART:20130822T183000
UID:/content/rbb/rbb/zibb/archiv/20130822_1830
DTSTAMP:20140407T172555
DESCRIPTION:+++ Leukämie: Hilfe für Christopher +++ Das Interesse an Oldtimern nimmt zu +++ Theaterstück: "Ich - Gunter Gabriel" +++ \n\n\n
SUMMARY:zibb 22.08.2013 18:30
END:VEVENT
END:VCALENDAR
