BEGIN:VCALENDAR
X-WR-TIMEZONE:Europe/Berlin
X-WR-CALNAME:rbb-Kalender
VERSION:2.0
METHOD:PUBLISH
CALSCALE:GREGORIAN
PRODID:rbb-CMS DAY
BEGIN:VEVENT
CLASS:PUBLIC
URL:http://www.rbb-online.de/content/rbb/rbb/zibb/archiv/20130822_1830/alt-nazis-au-der-spuir.html
DTEND:20130822T192500
DTSTART:20130822T183000
UID:/content/rbb/rbb/zibb/archiv/20130822_1830/alt-nazis-au-der-spuir
DTSTAMP:20140407T172506
DESCRIPTION:In diesem Sommer startete das Simon-Wiesenthal-Center eine Plakataktion, um noch lebende Nazi-Kriegsverbrecher aufzuspüren. Auf Plakaten wurde eine Prämie von bis zu 25.000 Euro ausgelobt. Historiker sahen die Aktion mit kritischem Blick.\n
SUMMARY:Alt-Nazis auf der Spur
END:VEVENT
END:VCALENDAR
