BEGIN:VCALENDAR
X-WR-TIMEZONE:Europe/Berlin
X-WR-CALNAME:rbb-Kalender
VERSION:2.0
METHOD:PUBLISH
CALSCALE:GREGORIAN
PRODID:rbb-CMS DAY
BEGIN:VEVENT
CLASS:PUBLIC
URL:http://www.rbb-online.de/content/rbb/rbb/zibb/archiv/20130822_1830/historische-binnenschifffahrt.html
DTEND:20130822T192500
DTSTART:20130822T183000
UID:/content/rbb/rbb/zibb/archiv/20130822_1830/historische-binnenschifffahrt
DTSTAMP:20140407T172459
DESCRIPTION:Als es noch keine schweren Lastkraftwagen und schnelle Eisenbahnen gab, wurde fast alles auf dem Wasser transportiert. Das Schiffergewerbe ist uralt und immer noch aktuell. Längst sind aus den alten Lastkähnen leistungsstarke Binnenschiffe geworden.\n\n\n\n\n
SUMMARY:Historische Binnenschifffahrt
END:VEVENT
END:VCALENDAR
