BEGIN:VCALENDAR
X-WR-TIMEZONE:Europe/Berlin
X-WR-CALNAME:rbb-Kalender
VERSION:2.0
METHOD:PUBLISH
CALSCALE:GREGORIAN
PRODID:rbb-CMS DAY
BEGIN:VEVENT
CLASS:PUBLIC
URL:http://www.rbb-online.de/content/rbb/rbb/zibb/archiv/20130822_1830/ich-bin-gunter-gabriel.html
DTEND:20130822T192500
DTSTART:20130822T183000
UID:/content/rbb/rbb/zibb/archiv/20130822_1830/ich-bin-gunter-gabriel
DTSTAMP:20140407T172532
DESCRIPTION:Gunter Gabriel wird auf einer Bahre auf die Bühne getragen. Auf einem Container neben ihm hockt ein Engel. Er will ihn mitnehmen. Noch nicht, sagt Gunter. Dann beginnt der gemeinsame Rückblick auf das Achterbahn-Leben des Sängers.\n\n\n
SUMMARY:Theaterstück "Ich. Gunter Gabriel"
END:VEVENT
END:VCALENDAR
