BEGIN:VCALENDAR
X-WR-TIMEZONE:Europe/Berlin
X-WR-CALNAME:rbb-Kalender
VERSION:2.0
METHOD:PUBLISH
CALSCALE:GREGORIAN
PRODID:rbb-CMS DAY
BEGIN:VEVENT
CLASS:PUBLIC
URL:http://www.rbb-online.de/content/rbb/rbb/zibb/archiv/20130823_1830/kleingaertner-mit-leib-und-seele.html
DTEND:20130823T192500
DTSTART:20130823T183000
UID:/content/rbb/rbb/zibb/archiv/20130823_1830/kleingaertner-mit-leib-und-seele
DTSTAMP:20140407T172150
DESCRIPTION:Für sein eigens Stück Grün hat der 63-Jährige Inder Gurdip Singh ganz schön kämpfen müssen. Immer wieder wurde er abgelehnt, sechs Jahre lang stand er auf der Warteliste.\n\n\n
SUMMARY:Kleingärtner mit Leib und Seele
END:VEVENT
END:VCALENDAR
