BEGIN:VCALENDAR
X-WR-TIMEZONE:Europe/Berlin
X-WR-CALNAME:rbb-Kalender
VERSION:2.0
METHOD:PUBLISH
CALSCALE:GREGORIAN
PRODID:rbb-CMS DAY
BEGIN:VEVENT
CLASS:PUBLIC
URL:http://www.rbb-online.de/content/rbb/rbb/zibb/archiv/20130826_1830/20130826-Malen-mit-Sand.html
DTEND:20130826T192500
DTSTART:20130826T183000
UID:/content/rbb/rbb/zibb/archiv/20130826_1830/20130826-Malen-mit-Sand
DTSTAMP:20140407T165631
DESCRIPTION:In der Berliner Hufeisensiedlung in Britz malt Angela Kaiser mit Sand. Vor 13 Jahren hat sie diesen außergewöhnlichen Werkstoff für sich entdeckt. In jedem Urlaub wird ihr Hauptarbeitsmaterial nun fleißig gesammelt.\n
SUMMARY:Malen mit Sand
END:VEVENT
END:VCALENDAR
