BEGIN:VCALENDAR
X-WR-TIMEZONE:Europe/Berlin
X-WR-CALNAME:rbb-Kalender
VERSION:2.0
METHOD:PUBLISH
CALSCALE:GREGORIAN
PRODID:rbb-CMS DAY
BEGIN:VEVENT
CLASS:PUBLIC
URL:http://www.rbb-online.de/content/rbb/rbb/zibb/archiv/20130826_1830/20130826-Wenn-uns-die-Stoerche-verlassen.html
DTEND:20130826T192500
DTSTART:20130826T183000
UID:/content/rbb/rbb/zibb/archiv/20130826_1830/20130826-Wenn-uns-die-Stoerche-verlassen
DTSTAMP:20140407T165616
DESCRIPTION:Gerade mal ein Storch ist noch in Rühlsdorf geblieben. Die anderen haben die  Prignitz vor ein paar Tagen bereits in Richtung Südafrika verlassen. Die Route steht fest: Erstmal geht’s ostwärts, dann die Donau entlang, immer nach Süden, Richtung Türkei.\n
SUMMARY:Wenn uns die Störche verlassen
END:VEVENT
END:VCALENDAR
