BEGIN:VCALENDAR
X-WR-TIMEZONE:Europe/Berlin
X-WR-CALNAME:rbb-Kalender
VERSION:2.0
METHOD:PUBLISH
CALSCALE:GREGORIAN
PRODID:rbb-CMS DAY
BEGIN:VEVENT
LOCATION:zuhause in berlin & brandenburg
CLASS:PUBLIC
URL:http://www.rbb-online.de/content/rbb/rbb/zibb/archiv/20130827_1830.html
DTEND:20130827T192500
DTSTART:20130827T183000
UID:/content/rbb/rbb/zibb/archiv/20130827_1830
DTSTAMP:20140407T170533
DESCRIPTION:+++ Angst vor Milirtärschlag in Syrien +++ Hormone in Kosmetika +++ Woidke soll Platzeck nachfolgen +++ Archäologischer Sensationsfund +++ Schwarz-Weiß-Film über Neukölln im Kino +++ Filmfest in Potsdam +++ zu Gast: Anna und Linus de Paoli +++ Kochen mit Gin und Tonic +++ Bundesfreiwilligendienst +++\n\n\n
SUMMARY:zibb 27.08.2013 18:30 Uhr
END:VEVENT
END:VCALENDAR
