BEGIN:VCALENDAR
X-WR-TIMEZONE:Europe/Berlin
X-WR-CALNAME:rbb-Kalender
VERSION:2.0
METHOD:PUBLISH
CALSCALE:GREGORIAN
PRODID:rbb-CMS DAY
BEGIN:VEVENT
CLASS:PUBLIC
URL:http://www.rbb-online.de/content/rbb/rbb/zibb/archiv/20130827_1830/Incredible-Filmfest-in-Potsdam-beginnt.html
DTEND:20130827T192500
DTSTART:20130827T183000
UID:/content/rbb/rbb/zibb/archiv/20130827_1830/Incredible-Filmfest-in-Potsdam-beginnt
DTSTAMP:20140407T170413
DESCRIPTION:Das “Incredible Filmfest” ist nach Wanderjahren durch Brandenburg in Potsdam angekommen. Von 27. bis 31. August werden im Potsdamer Traditionskino Thalia insgesammt 49 Beiträge gezeigt.\n
SUMMARY:Incredible Filmfest in Potsdam beginnt
END:VEVENT
END:VCALENDAR
