BEGIN:VCALENDAR
X-WR-TIMEZONE:Europe/Berlin
X-WR-CALNAME:rbb-Kalender
VERSION:2.0
METHOD:PUBLISH
CALSCALE:GREGORIAN
PRODID:rbb-CMS DAY
BEGIN:VEVENT
LOCATION:zuhause in berlin & brandenburg
CLASS:PUBLIC
URL:http://www.rbb-online.de/content/rbb/rbb/zibb/archiv/20130828_1830.html
DTEND:20130828T192500
DTSTART:20130828T183000
UID:/content/rbb/rbb/zibb/archiv/20130828_1830
DTSTAMP:20140407T171126
DESCRIPTION:Sonne für alle +++ Wo ist der Wiedehopf +++ Thees Uhlmann zu Gast +++ Die Kinderwagengarage +++ Stipendien für Schüler und Studenten +++ Arbeiten im Kühlhaus +++ Wie erkenne ich einen Schlaganfall? +++ Live beim radioeins-Parkfest\n
SUMMARY:zibb 28.08.2013 18:30
END:VEVENT
END:VCALENDAR
