BEGIN:VCALENDAR
X-WR-TIMEZONE:Europe/Berlin
X-WR-CALNAME:rbb-Kalender
VERSION:2.0
METHOD:PUBLISH
CALSCALE:GREGORIAN
PRODID:rbb-CMS DAY
BEGIN:VEVENT
LOCATION:zuhause in berlin & brandenburg
CLASS:PUBLIC
URL:http://www.rbb-online.de/content/rbb/rbb/zibb/archiv/20130829_1830.html
DTEND:20130829T192500
DTSTART:20130829T183000
UID:/content/rbb/rbb/zibb/archiv/20130829_1830
DTSTAMP:20140407T173049
DESCRIPTION:+++ Achtung: Wespenalarm +++ Alleskönner Essig +++ Von Belzig in die Welt: Sopranistin Mandy Fredrich +++ Live im Musikinstrumentenmuseum +++ Klaus Maria Brandauer vor der Kamera +++ Spielplätze für alle\n
SUMMARY:zibb 29.08.2013 18:30
END:VEVENT
END:VCALENDAR
