BEGIN:VCALENDAR
X-WR-TIMEZONE:Europe/Berlin
X-WR-CALNAME:rbb-Kalender
VERSION:2.0
METHOD:PUBLISH
CALSCALE:GREGORIAN
PRODID:rbb-CMS DAY
BEGIN:VEVENT
CLASS:PUBLIC
URL:http://www.rbb-online.de/content/rbb/rbb/zibb/archiv/20130829_1830/spielplaetze.html
DTEND:20130829T192500
DTSTART:20130829T183000
UID:/content/rbb/rbb/zibb/archiv/20130829_1830/spielplaetze
DTSTAMP:20140407T173027
DESCRIPTION:Ulrich Paulig baut in Teltow Mehrgenerationenspielplätze. Dafür hat er diverse Preise gewonnen, seine Idee wurde sogar bis nach Israel exportiert. Alleine in Berlin hat er bereits um die 400 Spielplätze verwirklicht.\n
SUMMARY:Spielplätze für alle
END:VEVENT
END:VCALENDAR
