BEGIN:VCALENDAR
X-WR-TIMEZONE:Europe/Berlin
X-WR-CALNAME:rbb-Kalender
VERSION:2.0
METHOD:PUBLISH
CALSCALE:GREGORIAN
PRODID:rbb-CMS DAY
BEGIN:VEVENT
CLASS:PUBLIC
URL:http://www.rbb-online.de/content/rbb/rbb/zibb/archiv/20130829_1830/wespen.html
DTEND:20130829T192500
DTSTART:20130829T183000
UID:/content/rbb/rbb/zibb/archiv/20130829_1830/wespen
DTSTAMP:20140407T173124
DESCRIPTION:Kammerjäger Reinhard Gajek hat in diesen Tagen viele Außentermine: Es ist Wespen-Hochsaison. Fast stündlich gehen bei ihm Notrufe wegen Wespennestern ein. Mit seinem Enkel Denis, Schädlingsbekämpfer in dritter Generation, macht er den nervenden Insekten den Garaus.\n
SUMMARY:Achtung: Wespenalarm!
END:VEVENT
END:VCALENDAR
