BEGIN:VCALENDAR
X-WR-TIMEZONE:Europe/Berlin
X-WR-CALNAME:rbb-Kalender
VERSION:2.0
METHOD:PUBLISH
CALSCALE:GREGORIAN
PRODID:rbb-CMS DAY
BEGIN:VEVENT
LOCATION: 
CLASS:PUBLIC
URL:http://www.rbb-online.de/content/rbb/rbb/zibb/archiv/20130830_1830.html
DTEND:20130830T192500
DTSTART:20130830T183000
UID:/content/rbb/rbb/zibb/archiv/20130830_1830
DTSTAMP:20140407T170243
DESCRIPTION:++++ Der Hundemörder von Potsdam +++ Erster Berliner Rennradverleih +++ Energie Open Air in Angemünde +++\n\n \n
SUMMARY:zibb 30.08.2013 18:30
END:VEVENT
END:VCALENDAR
