BEGIN:VCALENDAR
X-WR-TIMEZONE:Europe/Berlin
X-WR-CALNAME:rbb-Kalender
VERSION:2.0
METHOD:PUBLISH
CALSCALE:GREGORIAN
PRODID:rbb-CMS DAY
BEGIN:VEVENT
CLASS:PUBLIC
URL:http://www.rbb-online.de/content/rbb/rbb/zibb/archiv/20130830_1830/Papstbier-aus-brandenburg.html
DTEND:20130830T192500
DTSTART:20130830T183000
UID:/content/rbb/rbb/zibb/archiv/20130830_1830/Papstbier-aus-brandenburg
DTSTAMP:20140407T170315
DESCRIPTION:In der altehrwürdigen Klosterbrauerei Neuzelle wird seit fünf Jahrhunderten der schwarze Abt, ein süffiges Schwarzbier, hergestellt. Jetzt schmuggelten junge Mitarbeiter das Bier zu einer Pabstsegnung nach Rom, und holten sich damit göttliche Absolution. Nun soll die gesegnete und versiegelte Flasche zum ersten Mal in der Produktion ihren Segen spenden.\n
SUMMARY:Papstbier aus Brandenburg
END:VEVENT
END:VCALENDAR
