BEGIN:VCALENDAR
X-WR-TIMEZONE:Europe/Berlin
X-WR-CALNAME:rbb-Kalender
VERSION:2.0
METHOD:PUBLISH
CALSCALE:GREGORIAN
PRODID:rbb-CMS DAY
BEGIN:VEVENT
CLASS:PUBLIC
URL:http://www.rbb-online.de/content/rbb/rbb/zibb/archiv/20130830_1830/energie-open-air-.html
DTEND:20130830T192500
DTSTART:20130830T183000
UID:/content/rbb/rbb/zibb/archiv/20130830_1830/energie-open-air-
DTSTAMP:20140407T170200
DESCRIPTION:In Angermünde steigt am Freitag der heißeste Event des Jahres. Die ganze Nacht lang rocken hochkarätige Bands, wie Bakkushan, Glasperlenspiel, Revolverheld und Jennifer Rostock das wunderschöne Strandbad Wolletzsee. zibb war live vor Ort.\n\n\n
SUMMARY:Energie Open Air in Angemünde
END:VEVENT
END:VCALENDAR
