BEGIN:VCALENDAR
X-WR-TIMEZONE:Europe/Berlin
X-WR-CALNAME:rbb-Kalender
VERSION:2.0
METHOD:PUBLISH
CALSCALE:GREGORIAN
PRODID:rbb-CMS DAY
BEGIN:VEVENT
CLASS:PUBLIC
URL:http://www.rbb-online.de/content/rbb/rbb/zibb/archiv/20130830_1830/modenschau-im-bodenmuseum.html
DTEND:20130830T192500
DTSTART:20130830T183000
UID:/content/rbb/rbb/zibb/archiv/20130830_1830/modenschau-im-bodenmuseum
DTSTAMP:20140407T170257
DESCRIPTION:Zur Langen Nacht der Museen am 31. August präsentiert das Bodemuseum eine altägyptische Modeschau nach dem Motto "Walk like an Egyptian". Zibb war bereits bei der Generalprobe dabei und hat sich die Fashion Show mit 1500 Jahre alter Mode angesehen.\n
SUMMARY:Modenschau im Bodemuseum
END:VEVENT
END:VCALENDAR
