BEGIN:VCALENDAR
X-WR-TIMEZONE:Europe/Berlin
X-WR-CALNAME:rbb-Kalender
VERSION:2.0
METHOD:PUBLISH
CALSCALE:GREGORIAN
PRODID:rbb-CMS DAY
BEGIN:VEVENT
CLASS:PUBLIC
URL:http://www.rbb-online.de/content/rbb/rbb/zibb/archiv/20130902_1830/Neuer-Kinofilm-white-house-down.html
DTEND:20130902T192500
DTSTART:20130902T183000
UID:/content/rbb/rbb/zibb/archiv/20130902_1830/Neuer-Kinofilm-white-house-down
DTSTAMP:20140408T072741
DESCRIPTION:Gleich drei Herausforderungen hat der Washingtoner Polizist John Cale zu meistern: Er muss Amerika, dessen Präsidenten und seine kleine Tochter retten. Am Montag hat "White House Down" Deutschlandpremiere am Potsdamer Platz.\n\n\n
SUMMARY:Neuer Kinofilm "White House Down"
END:VEVENT
END:VCALENDAR
