BEGIN:VCALENDAR
X-WR-TIMEZONE:Europe/Berlin
X-WR-CALNAME:rbb-Kalender
VERSION:2.0
METHOD:PUBLISH
CALSCALE:GREGORIAN
PRODID:rbb-CMS DAY
BEGIN:VEVENT
CLASS:PUBLIC
URL:http://www.rbb-online.de/content/rbb/rbb/zibb/archiv/20130902_1830/das-leben-eine-weltreise.html
DTEND:20130902T192500
DTSTART:20130902T183000
UID:/content/rbb/rbb/zibb/archiv/20130902_1830/das-leben-eine-weltreise
DTSTAMP:20140408T072804
DESCRIPTION:Vor zweieinhalb Jahren haben die amerikanischen Senioren Tim und Lynne Martin ihr Haus in Kalifornien verkauft und nur die Dinge behalten, die in vier mittelgroße Koffer passen. Seitdem ist die ganze Welt ihr Zuhause. Den August haben sie in Berlin verbracht.\n\n\n
SUMMARY:Das Leben eine Weltreise
END:VEVENT
END:VCALENDAR
