BEGIN:VCALENDAR
X-WR-TIMEZONE:Europe/Berlin
X-WR-CALNAME:rbb-Kalender
VERSION:2.0
METHOD:PUBLISH
CALSCALE:GREGORIAN
PRODID:rbb-CMS DAY
BEGIN:VEVENT
CLASS:PUBLIC
URL:http://www.rbb-online.de/content/rbb/rbb/zibb/archiv/20130902_1830/dinofieber.html
DTEND:20130902T192500
DTSTART:20130902T183000
UID:/content/rbb/rbb/zibb/archiv/20130902_1830/dinofieber
DTSTAMP:20140408T072644
DESCRIPTION:Vor 20 Jahren hatte der Film "Jurassic Park" seine Deutschlandpremiere. Der oskarprämierte Film von Steven Spielberg löste weltweit eine Dinomanie aus. An ein Kinderzimmer ohne Dinosaurier war danach nicht mehr zu denken. \n\n\n
SUMMARY:Dinofieber
END:VEVENT
END:VCALENDAR
