BEGIN:VCALENDAR
X-WR-TIMEZONE:Europe/Berlin
X-WR-CALNAME:rbb-Kalender
VERSION:2.0
METHOD:PUBLISH
CALSCALE:GREGORIAN
PRODID:rbb-CMS DAY
BEGIN:VEVENT
CLASS:PUBLIC
URL:http://www.rbb-online.de/content/rbb/rbb/zibb/archiv/20130902_1830/pretsche-dorf-mit-zukunft.html
DTEND:20130902T192500
DTSTART:20130902T183000
UID:/content/rbb/rbb/zibb/archiv/20130902_1830/pretsche-dorf-mit-zukunft
DTSTAMP:20140408T072706
DESCRIPTION:Das kleine Dorf Pretschen am Rande des Spreewalds hat gerade einmal 270 Einwohner. Und dennoch gibt es hier einen Bäcker, eine Kita, eine Gaststätte und - mitten im Dorf - sogar eine Bocciabahn. Also alles, was ein Dorf am Leben hält.\n\n\n
SUMMARY:Pretschen – ein Dorf mit Zukunft 
END:VEVENT
END:VCALENDAR
