BEGIN:VCALENDAR
X-WR-TIMEZONE:Europe/Berlin
X-WR-CALNAME:rbb-Kalender
VERSION:2.0
METHOD:PUBLISH
CALSCALE:GREGORIAN
PRODID:rbb-CMS DAY
BEGIN:VEVENT
CLASS:PUBLIC
URL:http://www.rbb-online.de/content/rbb/rbb/zibb/archiv/20130902_1830/ruhr-ausbruch-im-berliner-zoo.html
DTEND:20130902T192500
DTSTART:20130902T183000
UID:/content/rbb/rbb/zibb/archiv/20130902_1830/ruhr-ausbruch-im-berliner-zoo
DTSTAMP:20140408T072656
DESCRIPTION:Die Ruhr gilt als typische Krankheit für die Kriegs- und Nachkriegszeit: Die Menschen waren sehr geschwächt und schlecht ernährt, und die hygienischen Zustände taten ein Übriges. In unseren Tagen ist diese Krankheit ein eher seltenes Phänomen. Und dennoch ist sie jetzt im Berliner Zoo aufgetreten.\n\n\n
SUMMARY:Ruhr-Ausbruch im Berliner Zoo
END:VEVENT
END:VCALENDAR
