BEGIN:VCALENDAR
X-WR-TIMEZONE:Europe/Berlin
X-WR-CALNAME:rbb-Kalender
VERSION:2.0
METHOD:PUBLISH
CALSCALE:GREGORIAN
PRODID:rbb-CMS DAY
BEGIN:VEVENT
CLASS:PUBLIC
URL:http://www.rbb-online.de/content/rbb/rbb/zibb/archiv/20130903_1830/hexenkessel-theater-amphitryon.html
DTEND:20130903T192500
DTSTART:20130903T183000
UID:/content/rbb/rbb/zibb/archiv/20130903_1830/hexenkessel-theater-amphitryon
DTSTAMP:20140408T021929
DESCRIPTION:Seit Beginn der Sommersaison strömten über 29.000 Besucher in die Vorstellungen des Amphitheaters am Monbijoupark.\n\n\n
SUMMARY:Amphitryon: Die Spielzeit wird verlängert
END:VEVENT
END:VCALENDAR
