BEGIN:VCALENDAR
X-WR-TIMEZONE:Europe/Berlin
X-WR-CALNAME:rbb-Kalender
VERSION:2.0
METHOD:PUBLISH
CALSCALE:GREGORIAN
PRODID:rbb-CMS DAY
BEGIN:VEVENT
CLASS:PUBLIC
URL:http://www.rbb-online.de/content/rbb/rbb/zibb/archiv/20130904_1830/alpenverein.html
DTEND:20130904T192500
DTSTART:20130904T183000
UID:/content/rbb/rbb/zibb/archiv/20130904_1830/alpenverein
DTSTAMP:20140407T160726
DESCRIPTION:Robby Sandmann ist Leiter der Potsdamer DAV-Jugend und unternimmt viel mit dem Nachwuchs. Für seine Leidenschaft das Bergsteigen nimmt er eigentlich immer an einem Treffen junger Bergsteiger in Hohnstein im sächsischen Elbsandsteingebirge teil.\n
SUMMARY:Der Alpenverein
END:VEVENT
END:VCALENDAR
