BEGIN:VCALENDAR
X-WR-TIMEZONE:Europe/Berlin
X-WR-CALNAME:rbb-Kalender
VERSION:2.0
METHOD:PUBLISH
CALSCALE:GREGORIAN
PRODID:rbb-CMS DAY
BEGIN:VEVENT
CLASS:PUBLIC
URL:http://www.rbb-online.de/content/rbb/rbb/zibb/archiv/20130905_1830/200-jahre-skat.html
DTEND:20130905T192500
DTSTART:20130905T183000
UID:/content/rbb/rbb/zibb/archiv/20130905_1830/200-jahre-skat
DTSTAMP:20140407T172648
DESCRIPTION:Skat gilt als das deutsche Kartenspiel schlechthin und soll vor 200 Jahren in Altenburg erfunden worden sein. Drei oder auch vier Spieler treffen sich an Stammtischen in Kneipen, zuhause und auch immer häufiger im Internet, um die Karten zu dreschen.\n\n\n \n
SUMMARY:200 Jahre Skat
END:VEVENT
END:VCALENDAR
