BEGIN:VCALENDAR
X-WR-TIMEZONE:Europe/Berlin
X-WR-CALNAME:rbb-Kalender
VERSION:2.0
METHOD:PUBLISH
CALSCALE:GREGORIAN
PRODID:rbb-CMS DAY
BEGIN:VEVENT
CLASS:PUBLIC
URL:http://www.rbb-online.de/content/rbb/rbb/zibb/archiv/20130905_1830/Kampf-um-den-traumjob.html
DTEND:20130905T192500
DTSTART:20130905T183000
UID:/content/rbb/rbb/zibb/archiv/20130905_1830/Kampf-um-den-traumjob
DTSTAMP:20140407T172633
DESCRIPTION:Willi Struwe ist 21 Jahre alt. Seit seiner Kindheit hat er einen Traum: Er will Lokführer werden. Er beginnt eine Ausbildung bei der Deutschen Bahn. Doch bevor er zum ersten Mal selbst fahren darf, hat er einen Arbeitsunfall. Ein Bein muss amputiert werden. Aber Willi kämpft weiter.\n
SUMMARY:Kampf um den Traumjob
END:VEVENT
END:VCALENDAR
