BEGIN:VCALENDAR
X-WR-TIMEZONE:Europe/Berlin
X-WR-CALNAME:rbb-Kalender
VERSION:2.0
METHOD:PUBLISH
CALSCALE:GREGORIAN
PRODID:rbb-CMS DAY
BEGIN:VEVENT
CLASS:PUBLIC
URL:http://www.rbb-online.de/content/rbb/rbb/zibb/archiv/20130905_1830/dorf-mit-zukunft.html
DTEND:20130905T192500
DTSTART:20130905T183000
UID:/content/rbb/rbb/zibb/archiv/20130905_1830/dorf-mit-zukunft
DTSTAMP:20140407T172711
DESCRIPTION:Das Dorf Klockow in der Uckermark hat wie viele Brandenburger Orte mit Landflucht der Jugend und wirtschaftlicher Perspektivlosigkeit zu kämpfen. Dennoch ist Klockow gerade "Neulandgewinner" der Robert-Bosch-Stiftung geworden.\n\n\n
SUMMARY:Dorf mit Zukunft
END:VEVENT
END:VCALENDAR
