BEGIN:VCALENDAR
X-WR-TIMEZONE:Europe/Berlin
X-WR-CALNAME:rbb-Kalender
VERSION:2.0
METHOD:PUBLISH
CALSCALE:GREGORIAN
PRODID:rbb-CMS DAY
BEGIN:VEVENT
CLASS:PUBLIC
URL:http://www.rbb-online.de/content/rbb/rbb/zibb/archiv/20130905_1830/dorf-mit-zukunft1.html
DTEND:20130905T192500
DTSTART:20130905T183000
UID:/content/rbb/rbb/zibb/archiv/20130905_1830/dorf-mit-zukunft1
DTSTAMP:20140407T172609
DESCRIPTION:Der Schlaatz ist nicht nur ein Neubaugebiet sondern auch ein Naturparadies für Biber. Seit Jahren schon wohnt Biber Bert mit seiner Paula an der Nuthe. Familie Sell geht sie jeden Abend besuchen. In diesem Jahr haben die Biber sogar zwei Junge.\n\n\n\n\n\n\n
SUMMARY:Biber in Potsdam
END:VEVENT
END:VCALENDAR
