BEGIN:VCALENDAR
X-WR-TIMEZONE:Europe/Berlin
X-WR-CALNAME:rbb-Kalender
VERSION:2.0
METHOD:PUBLISH
CALSCALE:GREGORIAN
PRODID:rbb-CMS DAY
BEGIN:VEVENT
CLASS:PUBLIC
URL:http://www.rbb-online.de/content/rbb/rbb/zibb/archiv/20130906_1830/die-haertesten-feuerwehrmaenner.html
DTEND:20130906T192500
DTSTART:20130906T183000
UID:/content/rbb/rbb/zibb/archiv/20130906_1830/die-haertesten-feuerwehrmaenner
DTSTAMP:20140407T170132
DESCRIPTION:Vier Tage lang kämpfen Feuerwehren aus ganz Deutschland auf dem ehemaligen Flugfeld in Tempelhof darum, die schnellsten zu sein. Mann gegen Mann kämpfen sich alle fünf Minuten zwei Feuerwehrleute durch einen Parcours mit fünf anstrengenden Aufgaben.\n\n\n
SUMMARY:Die härtesten Feuerwehrmänner
END:VEVENT
END:VCALENDAR
