BEGIN:VCALENDAR
X-WR-TIMEZONE:Europe/Berlin
X-WR-CALNAME:rbb-Kalender
VERSION:2.0
METHOD:PUBLISH
CALSCALE:GREGORIAN
PRODID:rbb-CMS DAY
BEGIN:VEVENT
CLASS:PUBLIC
URL:http://www.rbb-online.de/content/rbb/rbb/zibb/archiv/20130906_1830/neues-kunsthaus-in-premnitz.html
DTEND:20130906T192500
DTSTART:20130906T183000
UID:/content/rbb/rbb/zibb/archiv/20130906_1830/neues-kunsthaus-in-premnitz
DTSTAMP:20140407T170100
DESCRIPTION:In Premnitz ist  in der alten Direktorenvilla ein Kunsthaus eröffnet worden, das durch seine Einzigartigkeit verblüfft. In der Vergangenheit beherbergte das Haus unter anderem den Chef der Köln-Rottweiler Pulverfabrik, eine Gemeindeverwaltung und eine Kindertagesstätte.\n\n\n
SUMMARY:Neues Kunsthaus in Premnitz
END:VEVENT
END:VCALENDAR
