BEGIN:VCALENDAR
X-WR-TIMEZONE:Europe/Berlin
X-WR-CALNAME:rbb-Kalender
VERSION:2.0
METHOD:PUBLISH
CALSCALE:GREGORIAN
PRODID:rbb-CMS DAY
BEGIN:VEVENT
CLASS:PUBLIC
URL:http://www.rbb-online.de/content/rbb/rbb/zibb/archiv/20130906_1830/robert-almer-oesterreichischer-nationaltorwart.html
DTEND:20130906T192500
DTSTART:20130906T183000
UID:/content/rbb/rbb/zibb/archiv/20130906_1830/robert-almer-oesterreichischer-nationaltorwart
DTSTAMP:20140407T170121
DESCRIPTION:Am Freitagabend könnte eine Vorentscheidung für die deutsche Fußball-Nationalmannschaft auf dem Weg zu WM nächstes Jahr in Brasilien fallen. In München trifft das Löw-Team in der WM-Qualifikation auf Österreich. Und im Tor des Gegners steht einer, der seit einigen Wochen auch beim Zweitligisten in Cottbus für Furore sorgt: Robert Almer.\n
SUMMARY:Robert Almer – österreichischer Nationaltorwart 
END:VEVENT
END:VCALENDAR
